BEGIN:VCALENDAR
VERSION:2.0
PRODID:-//Heviva - ECPv6.15.17.1//NONSGML v1.0//EN
CALSCALE:GREGORIAN
METHOD:PUBLISH
X-ORIGINAL-URL:https://formation.heviva.ch
X-WR-CALDESC:Évènements pour Heviva
REFRESH-INTERVAL;VALUE=DURATION:PT1H
X-Robots-Tag:noindex
X-PUBLISHED-TTL:PT1H
BEGIN:VTIMEZONE
TZID:Europe/Zurich
BEGIN:DAYLIGHT
TZOFFSETFROM:+0100
TZOFFSETTO:+0200
TZNAME:CEST
DTSTART:20250330T010000
END:DAYLIGHT
BEGIN:STANDARD
TZOFFSETFROM:+0200
TZOFFSETTO:+0100
TZNAME:CET
DTSTART:20251026T010000
END:STANDARD
BEGIN:DAYLIGHT
TZOFFSETFROM:+0100
TZOFFSETTO:+0200
TZNAME:CEST
DTSTART:20260329T010000
END:DAYLIGHT
BEGIN:STANDARD
TZOFFSETFROM:+0200
TZOFFSETTO:+0100
TZNAME:CET
DTSTART:20261025T010000
END:STANDARD
BEGIN:DAYLIGHT
TZOFFSETFROM:+0100
TZOFFSETTO:+0200
TZNAME:CEST
DTSTART:20270328T010000
END:DAYLIGHT
BEGIN:STANDARD
TZOFFSETFROM:+0200
TZOFFSETTO:+0100
TZNAME:CET
DTSTART:20271031T010000
END:STANDARD
END:VTIMEZONE
BEGIN:VEVENT
DTSTART;TZID=Europe/Zurich:20260423T170000
DTEND;TZID=Europe/Zurich:20260423T200000
DTSTAMP:20260419T182657
CREATED:20251112T133944Z
LAST-MODIFIED:20251112T133944Z
UID:54406-1776963600-1776974400@formation.heviva.ch
SUMMARY:TIME2LEARN ASE - par ZOOM – 17h00 à 20h00 – 54002
DESCRIPTION:
URL:https://formation.heviva.ch/event/time2learn-ase-par-zoom-17h00-a-20h00-54002/
LOCATION:En Ligne
CATEGORIES:session 2026
ORGANIZER;CN="Edwige Ancona":MAILTO:edwige.ancona@heviva.ch
END:VEVENT
BEGIN:VEVENT
DTSTART;TZID=Europe/Zurich:20260427T083000
DTEND;TZID=Europe/Zurich:20260427T163000
DTSTAMP:20260419T182657
CREATED:20260106T102200Z
LAST-MODIFIED:20260122T151709Z
UID:55124-1777278600-1777307400@formation.heviva.ch
SUMMARY:Nouvelle ordonnance ASE - Session 2 - 54723
DESCRIPTION:
URL:https://formation.heviva.ch/event/nouvelle-ordonnance-ase-session-2-54723/
LOCATION:CEFCO\, Avenue des Baumettes 15\, Renens\, Suisse\, 1020
CATEGORIES:session 2026
ORGANIZER;CN="Edwige Ancona":MAILTO:edwige.ancona@heviva.ch
END:VEVENT
BEGIN:VEVENT
DTSTART;TZID=Europe/Zurich:20260505T083000
DTEND;TZID=Europe/Zurich:20260505T163000
DTSTAMP:20260419T182657
CREATED:20250916T122750Z
LAST-MODIFIED:20260122T152107Z
UID:52841-1777969800-1777998600@formation.heviva.ch
SUMMARY:ACCOMPAGNER LES STAGIAIRES EN RÉINSERTION PROFESSIONNELLE - 50313
DESCRIPTION:
URL:https://formation.heviva.ch/event/accompagner-les-stagiaires-en-reinsertion-professionnelle-50313/
LOCATION:CEFCO\, Avenue des Baumettes 15\, Renens\, Suisse\, 1020
CATEGORIES:session 2026
END:VEVENT
BEGIN:VEVENT
DTSTART;TZID=Europe/Zurich:20260506T083000
DTEND;TZID=Europe/Zurich:20260506T163000
DTSTAMP:20260419T182657
CREATED:20251111T093734Z
LAST-MODIFIED:20260122T152159Z
UID:54103-1778056200-1778085000@formation.heviva.ch
SUMMARY:ENTRETIENS DE RÉSEAU - Module 1 - Session 3 - 52331
DESCRIPTION:
URL:https://formation.heviva.ch/event/https-formation-heviva-ch-courses-entretiens-de-reseau-session-3/
LOCATION:CEFCO\, Avenue des Baumettes 15\, Renens\, Suisse\, 1020
CATEGORIES:session 2026
ORGANIZER;CN="Jocelyne Pasche":MAILTO:jocelyne.pasche@heviva.ch
END:VEVENT
BEGIN:VEVENT
DTSTART;TZID=Europe/Zurich:20260521T083000
DTEND;TZID=Europe/Zurich:20260521T163000
DTSTAMP:20260419T182657
CREATED:20251001T135334Z
LAST-MODIFIED:20260122T152341Z
UID:53071-1779352200-1779381000@formation.heviva.ch
SUMMARY:MEDICAMENTS EN EMS – 53066
DESCRIPTION:
URL:https://formation.heviva.ch/event/medicaments-en-ems-53066/
LOCATION:CEFCO\, Avenue des Baumettes 15\, Renens\, Suisse\, 1020
CATEGORIES:session 2026
ORGANIZER;CN="Laura W%C3%BCest":MAILTO:laura.wuest@heviva.ch
END:VEVENT
BEGIN:VEVENT
DTSTART;TZID=Europe/Zurich:20260605T083000
DTEND;TZID=Europe/Zurich:20260605T163000
DTSTAMP:20260419T182657
CREATED:20251212T071112Z
LAST-MODIFIED:20260122T152935Z
UID:54952-1780648200-1780677000@formation.heviva.ch
SUMMARY:RÔLE DU RÉPONDANT FAP – 53525
DESCRIPTION:
URL:https://formation.heviva.ch/event/role-du-repondant-fap-53525/
LOCATION:CEFCO\, Avenue des Baumettes 15\, Renens\, Suisse\, 1020
CATEGORIES:session 2026
ORGANIZER;CN="Edwige Ancona":MAILTO:edwige.ancona@heviva.ch
END:VEVENT
BEGIN:VEVENT
DTSTART;TZID=Europe/Zurich:20260609T083000
DTEND;TZID=Europe/Zurich:20260609T163000
DTSTAMP:20260419T182657
CREATED:20250911T140352Z
LAST-MODIFIED:20260122T153105Z
UID:26576-1780993800-1781022600@formation.heviva.ch
SUMMARY:MANAGEMENT ET MEDIATION DES CONFLITS - 500028
DESCRIPTION:
URL:https://formation.heviva.ch/event/https-formation-heviva-ch-courses-management-et-mediation-de-conflits-une-nouvelle-posture-2-2/
LOCATION:CEFCO\, Avenue des Baumettes 15\, Renens\, Suisse\, 1020
CATEGORIES:session 2026
ORGANIZER;CN="Sylvain Henry":MAILTO:sylvain.henry@heviva.ch
END:VEVENT
BEGIN:VEVENT
DTSTART;TZID=Europe/Zurich:20260611T133000
DTEND;TZID=Europe/Zurich:20260611T163000
DTSTAMP:20260419T182657
CREATED:20260327T090346Z
LAST-MODIFIED:20260327T090346Z
UID:57295-1781184600-1781195400@formation.heviva.ch
SUMMARY:ATELIER RH – session 2 - 57287
DESCRIPTION:
URL:https://formation.heviva.ch/event/atelier-rh-session-2-57287/
LOCATION:CEFCO\, Avenue des Baumettes 15\, Renens\, Suisse\, 1020
CATEGORIES:session 2026
ORGANIZER;CN="Edwige Ancona":MAILTO:edwige.ancona@heviva.ch
END:VEVENT
BEGIN:VEVENT
DTSTART;TZID=Europe/Zurich:20260624T083000
DTEND;TZID=Europe/Zurich:20260624T163000
DTSTAMP:20260419T182657
CREATED:20230612T125707Z
LAST-MODIFIED:20260122T153147Z
UID:25478-1782289800-1782318600@formation.heviva.ch
SUMMARY:MANGER\, ENTRE DEPENDANCE ET AUTONOMIE – 50036
DESCRIPTION:
URL:https://formation.heviva.ch/event/manger-entre-dependance-et-autonomie-50036/
LOCATION:CEFCO\, Avenue des Baumettes 15\, Renens\, Suisse\, 1020
CATEGORIES:session 2026
ORGANIZER;CN="Lianel Steinmann":MAILTO:lianel.steinmann@heviva.ch
END:VEVENT
BEGIN:VEVENT
DTSTART;TZID=Europe/Zurich:20260818T130000
DTEND;TZID=Europe/Zurich:20260818T163000
DTSTAMP:20260419T182657
CREATED:20251117T080721Z
LAST-MODIFIED:20260122T153244Z
UID:54512-1787058000-1787070600@formation.heviva.ch
SUMMARY:CFC ASE Art.32 – 53290
DESCRIPTION:
URL:https://formation.heviva.ch/event/cfc-ase-art-32-53290/
LOCATION:CEFCO\, Avenue des Baumettes 15\, Renens\, Suisse\, 1020
CATEGORIES:session 2026
ORGANIZER;CN="Laura W%C3%BCest":MAILTO:laura.wuest@heviva.ch
END:VEVENT
BEGIN:VEVENT
DTSTART;TZID=Europe/Zurich:20260824T083000
DTEND;TZID=Europe/Zurich:20260824T163000
DTSTAMP:20260419T182657
CREATED:20260413T130133Z
LAST-MODIFIED:20260413T130133Z
UID:57807-1787560200-1787589000@formation.heviva.ch
SUMMARY:AFP ASA ART. 32 – session 1 – 49978
DESCRIPTION:
URL:https://formation.heviva.ch/event/afp-asa-art-32-session-1-49978/
LOCATION:HevivA Renens\, Rue de Caudray 6\, Renens\, Suisse\, Suisse
CATEGORIES:session 2026
ORGANIZER;CN="Laura W%C3%BCest":MAILTO:laura.wuest@heviva.ch
END:VEVENT
BEGIN:VEVENT
DTSTART;TZID=Europe/Zurich:20260826T083000
DTEND;TZID=Europe/Zurich:20260826T163000
DTSTAMP:20260419T182657
CREATED:20260304T104909Z
LAST-MODIFIED:20260304T105049Z
UID:56642-1787733000-1787761800@formation.heviva.ch
SUMMARY:ENTRETIENS DE RÉSEAU - Module 1 - Session 4 - 52359
DESCRIPTION:
URL:https://formation.heviva.ch/event/entretiens-de-reseau-module-1-session-4/
LOCATION:CEFCO\, Avenue des Baumettes 15\, Renens\, Suisse\, 1020
CATEGORIES:session 2026
ORGANIZER;CN="Jocelyne Pasche":MAILTO:jocelyne.pasche@heviva.ch
END:VEVENT
BEGIN:VEVENT
DTSTART;TZID=Europe/Zurich:20260827T083000
DTEND;TZID=Europe/Zurich:20260827T120000
DTSTAMP:20260419T182657
CREATED:20251009T140556Z
LAST-MODIFIED:20260122T153740Z
UID:53438-1787819400-1787832000@formation.heviva.ch
SUMMARY:ENTREPRISE RESPONSABLE ET DURABILITE – 52402
DESCRIPTION:
URL:https://formation.heviva.ch/event/entreprise-responsable-et-durabilite-52402/
LOCATION:CEFCO\, Avenue des Baumettes 15\, Renens\, Suisse\, 1020
CATEGORIES:session 2026
ORGANIZER;CN="Laura W%C3%BCest":MAILTO:laura.wuest@heviva.ch
END:VEVENT
BEGIN:VEVENT
DTSTART;TZID=Europe/Zurich:20260827T083000
DTEND;TZID=Europe/Zurich:20260827T163000
DTSTAMP:20260419T182657
CREATED:20260115T081136Z
LAST-MODIFIED:20260122T153826Z
UID:55371-1787819400-1787848200@formation.heviva.ch
SUMMARY:Nouvelle ordonnance ASE - Session 1 - 55364
DESCRIPTION:
URL:https://formation.heviva.ch/event/nouvelle-ordonnance-ase-session-1-55364/
LOCATION:CEFCO\, Avenue des Baumettes 15\, Renens\, Suisse\, 1020
CATEGORIES:session 2026
ORGANIZER;CN="Edwige Ancona":MAILTO:edwige.ancona@heviva.ch
END:VEVENT
BEGIN:VEVENT
DTSTART;TZID=Europe/Zurich:20260827T130000
DTEND;TZID=Europe/Zurich:20260827T163000
DTSTAMP:20260419T182657
CREATED:20251009T141056Z
LAST-MODIFIED:20260122T153916Z
UID:53444-1787835600-1787848200@formation.heviva.ch
SUMMARY:GESTION DU LINGE ET DU LIEU DE VIE – 52407
DESCRIPTION:
URL:https://formation.heviva.ch/event/gestion-du-linge-et-du-lieu-de-vie-52407/
LOCATION:CEFCO\, Avenue des Baumettes 15\, Renens\, Suisse\, 1020
CATEGORIES:session 2026
ORGANIZER;CN="Laura W%C3%BCest":MAILTO:laura.wuest@heviva.ch
END:VEVENT
BEGIN:VEVENT
DTSTART;TZID=Europe/Zurich:20260831T083000
DTEND;TZID=Europe/Zurich:20260831T163000
DTSTAMP:20260419T182657
CREATED:20251015T132111Z
LAST-MODIFIED:20260122T154122Z
UID:53494-1788165000-1788193800@formation.heviva.ch
SUMMARY:Accompagner et soigner la nuit - 53482
DESCRIPTION:
URL:https://formation.heviva.ch/event/accompagner-et-soigner-la-nuit-53482/
LOCATION:CEFCO\, Avenue des Baumettes 15\, Renens\, Suisse\, 1020
CATEGORIES:session 2026
ORGANIZER;CN="Lianel Steinmann":MAILTO:lianel.steinmann@heviva.ch
END:VEVENT
BEGIN:VEVENT
DTSTART;TZID=Europe/Zurich:20260901T083000
DTEND;TZID=Europe/Zurich:20260901T113000
DTSTAMP:20260419T182657
CREATED:20251210T140246Z
LAST-MODIFIED:20260127T110544Z
UID:54938-1788251400-1788262200@formation.heviva.ch
SUMMARY:TIME2LEARN ASE  – 8h30 à 11h30 – 54931
DESCRIPTION:
URL:https://formation.heviva.ch/event/time2learn-ase-a-heviva-8h30-a-11h30-54931/
LOCATION:CEFCO\, Avenue des Baumettes 15\, Renens\, Suisse\, 1020
CATEGORIES:session 2026
ORGANIZER;CN="Edwige Ancona":MAILTO:edwige.ancona@heviva.ch
END:VEVENT
BEGIN:VEVENT
DTSTART;TZID=Europe/Zurich:20260901T083000
DTEND;TZID=Europe/Zurich:20260901T163000
DTSTAMP:20260419T182657
CREATED:20240417T131458Z
LAST-MODIFIED:20260401T110852Z
UID:34469-1788251400-1788280200@formation.heviva.ch
SUMMARY:APPROCHES SENSORIELLES – 53400
DESCRIPTION:
URL:https://formation.heviva.ch/event/approches-sensorielles-53400/
LOCATION:En Ligne
CATEGORIES:session 2026
ORGANIZER;CN="Lianel Steinmann":MAILTO:lianel.steinmann@heviva.ch
END:VEVENT
BEGIN:VEVENT
DTSTART;TZID=Europe/Zurich:20260901T083000
DTEND;TZID=Europe/Zurich:20260901T163000
DTSTAMP:20260419T182657
CREATED:20250730T131214Z
LAST-MODIFIED:20260127T110629Z
UID:51706-1788251400-1788280200@formation.heviva.ch
SUMMARY:MOBILISATION ET ALIMENTATION – 51696
DESCRIPTION:
URL:https://formation.heviva.ch/event/mobilisation-et-alimentation-51696/
LOCATION:CEFCO\, Avenue des Baumettes 15\, Renens\, Suisse\, 1020
CATEGORIES:session 2026
ORGANIZER;CN="Lianel Steinmann":MAILTO:lianel.steinmann@heviva.ch
END:VEVENT
BEGIN:VEVENT
DTSTART;TZID=Europe/Zurich:20260901T130000
DTEND;TZID=Europe/Zurich:20260901T163000
DTSTAMP:20260419T182657
CREATED:20260303T101436Z
LAST-MODIFIED:20260303T101436Z
UID:56609-1788267600-1788280200@formation.heviva.ch
SUMMARY:GESTION D’EQUIPE (POGE) – Session B – 55672
DESCRIPTION:
URL:https://formation.heviva.ch/event/gestion-dequipe-poge-session-b-55672/
LOCATION:HevivA Renens\, Rue de Caudray 6\, Renens\, Suisse\, Suisse
CATEGORIES:session 2026
ORGANIZER;CN="Jocelyne Pasche":MAILTO:jocelyne.pasche@heviva.ch
END:VEVENT
BEGIN:VEVENT
DTSTART;TZID=Europe/Zurich:20260902T083000
DTEND;TZID=Europe/Zurich:20260902T163000
DTSTAMP:20260419T182657
CREATED:20260317T121850Z
LAST-MODIFIED:20260317T121850Z
UID:56987-1788337800-1788366600@formation.heviva.ch
SUMMARY:DISTRIBUTION AUTONOME DES MEDICAMENTS EN EMS – 56975
DESCRIPTION:
URL:https://formation.heviva.ch/event/distribution-autonome-des-medicaments-en-ems-56975/
LOCATION:HevivA Renens\, Rue de Caudray 6\, Renens\, Suisse\, Suisse
CATEGORIES:session 2026
ORGANIZER;CN="Laura W%C3%BCest":MAILTO:laura.wuest@heviva.ch
END:VEVENT
BEGIN:VEVENT
DTSTART;TZID=Europe/Zurich:20260903T130000
DTEND;TZID=Europe/Zurich:20260903T163000
DTSTAMP:20260419T182657
CREATED:20241018T072024Z
LAST-MODIFIED:20260127T110731Z
UID:39971-1788440400-1788453000@formation.heviva.ch
SUMMARY:SOINS DES PIEDS À LA PERSONNE ÂGÉE – 46989
DESCRIPTION:
URL:https://formation.heviva.ch/event/le-role-du-fee-dans-la-formation-des-apprentis-cfc-assc-39963/
LOCATION:CEFCO\, Avenue des Baumettes 15\, Renens\, Suisse\, 1020
CATEGORIES:session 2026
ORGANIZER;CN="Lianel Steinmann":MAILTO:lianel.steinmann@heviva.ch
END:VEVENT
BEGIN:VEVENT
DTSTART;TZID=Europe/Zurich:20260908T130000
DTEND;TZID=Europe/Zurich:20260908T163000
DTSTAMP:20260419T182657
CREATED:20250915T121724Z
LAST-MODIFIED:20260127T110810Z
UID:52768-1788872400-1788885000@formation.heviva.ch
SUMMARY:RÉUSSIR LA LOGISTIQUE ET L’ACCUEIL POUR UN ÉVÈNEMENT – 51851
DESCRIPTION:
URL:https://formation.heviva.ch/event/reussir-la-logistique-et-laccueil-pour-un-evenement-51851/
LOCATION:CEFCO\, Avenue des Baumettes 15\, Renens\, Suisse\, 1020
CATEGORIES:session 2026
END:VEVENT
BEGIN:VEVENT
DTSTART;TZID=Europe/Zurich:20260909T083000
DTEND;TZID=Europe/Zurich:20260909T163000
DTSTAMP:20260419T182657
CREATED:20250923T130453Z
LAST-MODIFIED:20260127T110841Z
UID:52918-1788942600-1788971400@formation.heviva.ch
SUMMARY:LES EMOTIONS AU TRAVAIL : UNE RESSOURCE POUR LE MANAGEMENT - 52495
DESCRIPTION:
URL:https://formation.heviva.ch/event/courses-emotions-au-travail-3/
LOCATION:CEFCO\, Avenue des Baumettes 15\, Renens\, Suisse\, 1020
CATEGORIES:session 2026
ORGANIZER;CN="Sylvain Henry":MAILTO:sylvain.henry@heviva.ch
END:VEVENT
BEGIN:VEVENT
DTSTART;TZID=Europe/Zurich:20260910T083000
DTEND;TZID=Europe/Zurich:20260910T163000
DTSTAMP:20260419T182657
CREATED:20260402T054226Z
LAST-MODIFIED:20260402T054226Z
UID:57519-1789029000-1789057800@formation.heviva.ch
SUMMARY:BREVET FÉDÉRAL DE RESPONSABLE D’ÉQUIPE - BFRE
DESCRIPTION:
URL:https://formation.heviva.ch/event/brevet-federal-de-responsable-dequipe-bfre/
LOCATION:HevivA Renens\, Rue de Caudray 6\, Renens\, Suisse\, Suisse
CATEGORIES:session 2026
ORGANIZER;CN="Jocelyne Pasche":MAILTO:jocelyne.pasche@heviva.ch
END:VEVENT
BEGIN:VEVENT
DTSTART;TZID=Europe/Zurich:20260911T083000
DTEND;TZID=Europe/Zurich:20260911T163000
DTSTAMP:20260419T182657
CREATED:20260325T073901Z
LAST-MODIFIED:20260325T073901Z
UID:57252-1789115400-1789144200@formation.heviva.ch
SUMMARY:Nouvelle ordonnance GHI - session 1 - 57112
DESCRIPTION:
URL:https://formation.heviva.ch/event/nouvelle-ordonnance-ghi-session-1-57112/
LOCATION:CEFCO\, Avenue des Baumettes 15\, Renens\, Suisse\, 1020
CATEGORIES:session 2026
ORGANIZER;CN="Edwige Ancona":MAILTO:edwige.ancona@heviva.ch
END:VEVENT
BEGIN:VEVENT
DTSTART;TZID=Europe/Zurich:20260918T083000
DTEND;TZID=Europe/Zurich:20260918T163000
DTSTAMP:20260419T182657
CREATED:20260119T091038Z
LAST-MODIFIED:20260127T111048Z
UID:55423-1789720200-1789749000@formation.heviva.ch
SUMMARY:ACCOMPAGNER LA FIN DE VIE – 52770
DESCRIPTION:
URL:https://formation.heviva.ch/event/accompagner-la-fin-de-vie-52770/
LOCATION:HevivA Renens\, Rue de Caudray 6\, Renens\, Suisse\, Suisse
CATEGORIES:session 2026
ORGANIZER;CN="Laura W%C3%BCest":MAILTO:laura.wuest@heviva.ch
END:VEVENT
BEGIN:VEVENT
DTSTART;TZID=Europe/Zurich:20260925T083000
DTEND;TZID=Europe/Zurich:20260925T163000
DTSTAMP:20260419T182657
CREATED:20250805T131425Z
LAST-MODIFIED:20260127T111024Z
UID:51834-1790325000-1790353800@formation.heviva.ch
SUMMARY:GESTION ET PRÉVENTION DE LA VIOLENCE - 51827
DESCRIPTION:
URL:https://formation.heviva.ch/event/gestion-et-prevention-de-la-violence-51827/
LOCATION:HevivA Renens\, Rue de Caudray 6\, Renens\, Suisse\, Suisse
CATEGORIES:Session 2025
ORGANIZER;CN="Jocelyne Pasche":MAILTO:jocelyne.pasche@heviva.ch
END:VEVENT
BEGIN:VEVENT
DTSTART;TZID=Europe/Zurich:20260929T083000
DTEND;TZID=Europe/Zurich:20260929T163000
DTSTAMP:20260419T182657
CREATED:20260401T120406Z
LAST-MODIFIED:20260401T121609Z
UID:57493-1790670600-1790699400@formation.heviva.ch
SUMMARY:Formation d’accompagnateur en psychiatrie de l’âge avancé – FAP – 55095
DESCRIPTION:
URL:https://formation.heviva.ch/event/formation-daccompagnateur-en-psychiatrie-de-lage-avance-fap-55095/
LOCATION:HevivA Renens\, Rue de Caudray 6\, Renens\, Suisse\, Suisse
CATEGORIES:session 2026
ORGANIZER;CN="Edwige Ancona":MAILTO:edwige.ancona@heviva.ch
END:VEVENT
BEGIN:VEVENT
DTSTART;TZID=Europe/Zurich:20261001T083000
DTEND;TZID=Europe/Zurich:20261001T163000
DTSTAMP:20260419T182657
CREATED:20251119T092409Z
LAST-MODIFIED:20251119T095047Z
UID:54591-1790843400-1790872200@formation.heviva.ch
SUMMARY:ENTRETIEN PROFESSIONNEL DU LINGE - 53510
DESCRIPTION:
URL:https://formation.heviva.ch/event/entretien-professionnel-du-linge-53510/
LOCATION:HevivA Renens\, Rue de Caudray 6\, Renens\, Suisse\, Suisse
CATEGORIES:session 2026
ORGANIZER;CN="Edwige Ancona":MAILTO:edwige.ancona@heviva.ch
END:VEVENT
END:VCALENDAR