BEGIN:VCALENDAR
VERSION:2.0
PRODID:-//Heviva - ECPv6.15.17.1//NONSGML v1.0//EN
CALSCALE:GREGORIAN
METHOD:PUBLISH
X-WR-CALNAME:Heviva
X-ORIGINAL-URL:https://formation.heviva.ch
X-WR-CALDESC:Évènements pour Heviva
REFRESH-INTERVAL;VALUE=DURATION:PT1H
X-Robots-Tag:noindex
X-PUBLISHED-TTL:PT1H
BEGIN:VTIMEZONE
TZID:Europe/Zurich
BEGIN:DAYLIGHT
TZOFFSETFROM:+0100
TZOFFSETTO:+0200
TZNAME:CEST
DTSTART:20260329T010000
END:DAYLIGHT
BEGIN:STANDARD
TZOFFSETFROM:+0200
TZOFFSETTO:+0100
TZNAME:CET
DTSTART:20261025T010000
END:STANDARD
BEGIN:DAYLIGHT
TZOFFSETFROM:+0100
TZOFFSETTO:+0200
TZNAME:CEST
DTSTART:20270328T010000
END:DAYLIGHT
BEGIN:STANDARD
TZOFFSETFROM:+0200
TZOFFSETTO:+0100
TZNAME:CET
DTSTART:20271031T010000
END:STANDARD
BEGIN:DAYLIGHT
TZOFFSETFROM:+0100
TZOFFSETTO:+0200
TZNAME:CEST
DTSTART:20280326T010000
END:DAYLIGHT
BEGIN:STANDARD
TZOFFSETFROM:+0200
TZOFFSETTO:+0100
TZNAME:CET
DTSTART:20281029T010000
END:STANDARD
END:VTIMEZONE
BEGIN:VEVENT
DTSTART;TZID=Europe/Zurich:20270202T083000
DTEND;TZID=Europe/Zurich:20270202T120000
DTSTAMP:20260420T094144
CREATED:20260216T081728Z
LAST-MODIFIED:20260216T081728Z
UID:55999-1801557000-1801569600@formation.heviva.ch
SUMMARY:GESTION DU MATERIEL – 55940
DESCRIPTION:
URL:https://formation.heviva.ch/event/gestion-du-materiel-55940/
LOCATION:HevivA Renens\, Rue de Caudray 6\, Renens\, Suisse\, Suisse
CATEGORIES:session 2027
ORGANIZER;CN="Laura W%C3%BCest":MAILTO:laura.wuest@heviva.ch
END:VEVENT
BEGIN:VEVENT
DTSTART;TZID=Europe/Zurich:20270202T130000
DTEND;TZID=Europe/Zurich:20270202T163000
DTSTAMP:20260420T094144
CREATED:20260212T135937Z
LAST-MODIFIED:20260212T153747Z
UID:55980-1801573200-1801585800@formation.heviva.ch
SUMMARY:EVALUATION ET SURVEILLANCE DELEGUEES – 55962
DESCRIPTION:
URL:https://formation.heviva.ch/event/evaluation-et-surveillance-deleguees-55962/
LOCATION:HevivA Renens\, Rue de Caudray 6\, Renens\, Suisse\, Suisse
CATEGORIES:session 2027
ORGANIZER;CN="Laura W%C3%BCest":MAILTO:laura.wuest@heviva.ch
END:VEVENT
BEGIN:VEVENT
DTSTART;TZID=Europe/Zurich:20270209T083000
DTEND;TZID=Europe/Zurich:20270209T120000
DTSTAMP:20260420T094144
CREATED:20260316T094121Z
LAST-MODIFIED:20260316T094121Z
UID:56924-1802161800-1802174400@formation.heviva.ch
SUMMARY:ACCOMPAGNER AU REPOS – 56733
DESCRIPTION:
URL:https://formation.heviva.ch/event/accompagner-au-repos-56733/
LOCATION:HevivA Renens\, Rue de Caudray 6\, Renens\, Suisse\, Suisse
CATEGORIES:session 2027
ORGANIZER;CN="Laura W%C3%BCest":MAILTO:laura.wuest@heviva.ch
END:VEVENT
END:VCALENDAR