BEGIN:VCALENDAR
VERSION:2.0
PRODID:-//Heviva - ECPv6.15.17.1//NONSGML v1.0//EN
CALSCALE:GREGORIAN
METHOD:PUBLISH
X-ORIGINAL-URL:https://formation.heviva.ch
X-WR-CALDESC:Évènements pour Heviva
REFRESH-INTERVAL;VALUE=DURATION:PT1H
X-Robots-Tag:noindex
X-PUBLISHED-TTL:PT1H
BEGIN:VTIMEZONE
TZID:Europe/Zurich
BEGIN:DAYLIGHT
TZOFFSETFROM:+0100
TZOFFSETTO:+0200
TZNAME:CEST
DTSTART:20250330T010000
END:DAYLIGHT
BEGIN:STANDARD
TZOFFSETFROM:+0200
TZOFFSETTO:+0100
TZNAME:CET
DTSTART:20251026T010000
END:STANDARD
BEGIN:DAYLIGHT
TZOFFSETFROM:+0100
TZOFFSETTO:+0200
TZNAME:CEST
DTSTART:20260329T010000
END:DAYLIGHT
BEGIN:STANDARD
TZOFFSETFROM:+0200
TZOFFSETTO:+0100
TZNAME:CET
DTSTART:20261025T010000
END:STANDARD
BEGIN:DAYLIGHT
TZOFFSETFROM:+0100
TZOFFSETTO:+0200
TZNAME:CEST
DTSTART:20270328T010000
END:DAYLIGHT
BEGIN:STANDARD
TZOFFSETFROM:+0200
TZOFFSETTO:+0100
TZNAME:CET
DTSTART:20271031T010000
END:STANDARD
END:VTIMEZONE
BEGIN:VEVENT
DTSTART;TZID=Europe/Zurich:20261118T083000
DTEND;TZID=Europe/Zurich:20261118T120000
DTSTAMP:20260420T011815
CREATED:20251120T143315Z
LAST-MODIFIED:20251120T143315Z
UID:54679-1794990600-1795003200@formation.heviva.ch
SUMMARY:LES DÉFICIENCES VISUELLES CHEZ LA PERSONNE ÂGÉE – 54643
DESCRIPTION:
URL:https://formation.heviva.ch/event/les-deficiences-visuelles-chez-la-personne-agee-54643/
LOCATION:HevivA Renens\, Rue de Caudray 6\, Renens\, Suisse\, Suisse
CATEGORIES:session 2026
ORGANIZER;CN="Laura W%C3%BCest":MAILTO:laura.wuest@heviva.ch
END:VEVENT
BEGIN:VEVENT
DTSTART;TZID=Europe/Zurich:20261118T083000
DTEND;TZID=Europe/Zurich:20261118T120000
DTSTAMP:20260420T011815
CREATED:20260227T134046Z
LAST-MODIFIED:20260227T134046Z
UID:56457-1794990600-1795003200@formation.heviva.ch
SUMMARY:ALIMENTATION ET SOINS PALLIATIFS – 48483
DESCRIPTION:
URL:https://formation.heviva.ch/event/alimentation-et-soins-palliatifs/
LOCATION:HevivA Renens\, Rue de Caudray 6\, Renens\, Suisse\, Suisse
CATEGORIES:session 2026
ORGANIZER;CN="Lianel Steinmann":MAILTO:lianel.steinmann@heviva.ch
END:VEVENT
BEGIN:VEVENT
DTSTART;TZID=Europe/Zurich:20261118T130000
DTEND;TZID=Europe/Zurich:20261118T163000
DTSTAMP:20260420T011815
CREATED:20260202T075800Z
LAST-MODIFIED:20260202T075800Z
UID:55768-1795006800-1795019400@formation.heviva.ch
SUMMARY:ACCOMPAGNER LES PERSONNES MALENTENDANTES OU ATTEINTES DE SURDITE – 54654
DESCRIPTION:
URL:https://formation.heviva.ch/event/accompagner-les-personnes-malentendantes-ou-atteintes-de-surdite-54654/
LOCATION:HevivA Renens\, Rue de Caudray 6\, Renens\, Suisse\, Suisse
CATEGORIES:session 2026
ORGANIZER;CN="Laura W%C3%BCest":MAILTO:laura.wuest@heviva.ch
END:VEVENT
END:VCALENDAR