BEGIN:VCALENDAR
VERSION:2.0
PRODID:-//Heviva - ECPv6.15.17.1//NONSGML v1.0//EN
CALSCALE:GREGORIAN
METHOD:PUBLISH
X-ORIGINAL-URL:https://formation.heviva.ch
X-WR-CALDESC:Évènements pour Heviva
REFRESH-INTERVAL;VALUE=DURATION:PT1H
X-Robots-Tag:noindex
X-PUBLISHED-TTL:PT1H
BEGIN:VTIMEZONE
TZID:Europe/Zurich
BEGIN:DAYLIGHT
TZOFFSETFROM:+0100
TZOFFSETTO:+0200
TZNAME:CEST
DTSTART:20250330T010000
END:DAYLIGHT
BEGIN:STANDARD
TZOFFSETFROM:+0200
TZOFFSETTO:+0100
TZNAME:CET
DTSTART:20251026T010000
END:STANDARD
BEGIN:DAYLIGHT
TZOFFSETFROM:+0100
TZOFFSETTO:+0200
TZNAME:CEST
DTSTART:20260329T010000
END:DAYLIGHT
BEGIN:STANDARD
TZOFFSETFROM:+0200
TZOFFSETTO:+0100
TZNAME:CET
DTSTART:20261025T010000
END:STANDARD
BEGIN:DAYLIGHT
TZOFFSETFROM:+0100
TZOFFSETTO:+0200
TZNAME:CEST
DTSTART:20270328T010000
END:DAYLIGHT
BEGIN:STANDARD
TZOFFSETFROM:+0200
TZOFFSETTO:+0100
TZNAME:CET
DTSTART:20271031T010000
END:STANDARD
END:VTIMEZONE
BEGIN:VEVENT
DTSTART;TZID=Europe/Zurich:20261110T130000
DTEND;TZID=Europe/Zurich:20261110T163000
DTSTAMP:20260420T024918
CREATED:20251106T150920Z
LAST-MODIFIED:20251106T150920Z
UID:54044-1794315600-1794328200@formation.heviva.ch
SUMMARY:HEBERGEMENT EN EMS VAUD: FINANCEMENT ET ASSURANCES SOCIALES
DESCRIPTION:
URL:https://formation.heviva.ch/event/https-formation-heviva-ch-courses-hebergement-en-ems-vaud-financement-et-assurances-sociales-2-2/
LOCATION:HevivA Renens\, Rue de Caudray 6\, Renens\, Suisse\, Suisse
CATEGORIES:session 2026
ORGANIZER;CN="Jocelyne Pasche":MAILTO:jocelyne.pasche@heviva.ch
END:VEVENT
END:VCALENDAR