BEGIN:VCALENDAR
VERSION:2.0
PRODID:-//Heviva - ECPv6.15.17.1//NONSGML v1.0//EN
CALSCALE:GREGORIAN
METHOD:PUBLISH
X-WR-CALNAME:Heviva
X-ORIGINAL-URL:https://formation.heviva.ch
X-WR-CALDESC:Évènements pour Heviva
REFRESH-INTERVAL;VALUE=DURATION:PT1H
X-Robots-Tag:noindex
X-PUBLISHED-TTL:PT1H
BEGIN:VTIMEZONE
TZID:Europe/Zurich
BEGIN:DAYLIGHT
TZOFFSETFROM:+0100
TZOFFSETTO:+0200
TZNAME:CEST
DTSTART:20250330T010000
END:DAYLIGHT
BEGIN:STANDARD
TZOFFSETFROM:+0200
TZOFFSETTO:+0100
TZNAME:CET
DTSTART:20251026T010000
END:STANDARD
BEGIN:DAYLIGHT
TZOFFSETFROM:+0100
TZOFFSETTO:+0200
TZNAME:CEST
DTSTART:20260329T010000
END:DAYLIGHT
BEGIN:STANDARD
TZOFFSETFROM:+0200
TZOFFSETTO:+0100
TZNAME:CET
DTSTART:20261025T010000
END:STANDARD
BEGIN:DAYLIGHT
TZOFFSETFROM:+0100
TZOFFSETTO:+0200
TZNAME:CEST
DTSTART:20270328T010000
END:DAYLIGHT
BEGIN:STANDARD
TZOFFSETFROM:+0200
TZOFFSETTO:+0100
TZNAME:CET
DTSTART:20271031T010000
END:STANDARD
END:VTIMEZONE
BEGIN:VEVENT
DTSTART;TZID=Europe/Zurich:20261104T083000
DTEND;TZID=Europe/Zurich:20261104T163000
DTSTAMP:20260420T040230
CREATED:20250512T131959Z
LAST-MODIFIED:20251120T134425Z
UID:50215-1793781000-1793809800@formation.heviva.ch
SUMMARY:PRÉPARATION DES REPAS – 50215
DESCRIPTION:
URL:https://formation.heviva.ch/event/preparation-des-repas-50215/
LOCATION:Suisse
CATEGORIES:session 2026
ORGANIZER;CN="Lianel Steinmann":MAILTO:lianel.steinmann@heviva.ch
END:VEVENT
BEGIN:VEVENT
DTSTART;TZID=Europe/Zurich:20261104T083000
DTEND;TZID=Europe/Zurich:20261104T163000
DTSTAMP:20260420T040230
CREATED:20260106T132622Z
LAST-MODIFIED:20260106T132714Z
UID:55132-1793781000-1793809800@formation.heviva.ch
SUMMARY:ACCOMPAGNER LES APPRENANTS ADULTES AU QUOTIDIEN - 52776
DESCRIPTION:
URL:https://formation.heviva.ch/event/accompagner-les-apprenants-adultes-au-quotidien-52776/
LOCATION:HevivA Renens\, Rue de Caudray 6\, Renens\, Suisse\, Suisse
CATEGORIES:session 2026
ORGANIZER;CN="Edwige Ancona":MAILTO:edwige.ancona@heviva.ch
END:VEVENT
END:VCALENDAR